BEGIN:VCALENDAR
VERSION:2.0
PRODID:Events Booking
BEGIN:VEVENT
UID:69eb464d09fb5
SUMMARY:Kreativwerkstatt ab 4 J. (Mi)
DESCRIPTION:
 In diesem Kurs steht das selbstständige Erproben von Materi
 alien und Farben im Vordergrund. Spielerisch und mit allen Sinnen werden d
 ie Kinder an verschiedene Techniken und Materialien (u.a. Pappmaché\, Hol
 z\, Filz\, Gips) herangeführt.
 Durch eine vielfältige Materialauswahl 
 werden die Kinder in ihrer Kreativität und Ausdrucksfähigkeit angeregt u
 nd unterstützt.
  
 
LOCATION:19\, Mühlenbachstraße\, Westum\, Sinzig\, Landkreis Ahrweiler\, 
 Rheinland-Pfalz\, 53489\, Deutschland
DTSTART:20210901T150000Z
DTEND:20210901T160000Z
DTSTAMP:20260424T123037Z
ORGANIZER;CN=Kunterbude:MAILTO:booking@kunterbude.de
GEO:50.544949;7.24727
X-APPLE-STRUCTURED-LOCATION;VALUE=URI;X-ADDRESS=19\, Mühlenbachstraße\, W
 estum\, Sinzig\, Landkreis Ahrweiler\, Rheinland-Pfalz\, 53489\, Deutschla
 nd;X-APPLE-RADIUS=72;X-TITLE=Kunterbude:50.544949;7.24727
END:VEVENT
END:VCALENDAR